BEGIN:VCALENDAR
VERSION:2.0
PRODID:-//Ebenezer - ECPv6.15.20//NONSGML v1.0//EN
CALSCALE:GREGORIAN
METHOD:PUBLISH
X-WR-CALNAME:Ebenezer
X-ORIGINAL-URL:https://www.ebenezer.fo
X-WR-CALDESC:Events for Ebenezer
REFRESH-INTERVAL;VALUE=DURATION:PT1H
X-Robots-Tag:noindex
X-PUBLISHED-TTL:PT1H
BEGIN:VTIMEZONE
TZID:Europe/London
BEGIN:DAYLIGHT
TZOFFSETFROM:+0000
TZOFFSETTO:+0100
TZNAME:BST
DTSTART:20250330T010000
END:DAYLIGHT
BEGIN:STANDARD
TZOFFSETFROM:+0100
TZOFFSETTO:+0000
TZNAME:GMT
DTSTART:20251026T010000
END:STANDARD
BEGIN:DAYLIGHT
TZOFFSETFROM:+0000
TZOFFSETTO:+0100
TZNAME:BST
DTSTART:20260329T010000
END:DAYLIGHT
BEGIN:STANDARD
TZOFFSETFROM:+0100
TZOFFSETTO:+0000
TZNAME:GMT
DTSTART:20261025T010000
END:STANDARD
BEGIN:DAYLIGHT
TZOFFSETFROM:+0000
TZOFFSETTO:+0100
TZNAME:BST
DTSTART:20270328T010000
END:DAYLIGHT
BEGIN:STANDARD
TZOFFSETFROM:+0100
TZOFFSETTO:+0000
TZNAME:GMT
DTSTART:20271031T010000
END:STANDARD
END:VTIMEZONE
BEGIN:VEVENT
DTSTART;TZID=Europe/London:20260426T123000
DTEND;TZID=Europe/London:20260426T131500
DTSTAMP:20260421T184922
CREATED:20251230T000937Z
LAST-MODIFIED:20251230T000937Z
UID:10006142-1777206600-1777209300@www.ebenezer.fo
SUMMARY:Sunnudagsskúli
DESCRIPTION:Sangløta í niðara sali og síðani bíbliusøgur í aldursuppdeildum bólkum. \nUng í 7. flokki og eldri eru í stovuni yvirav stóra sali.
URL:https://www.ebenezer.fo/tiltak/sunnudagsskuli-10/2026-04-26/
LOCATION:í niðara sali
END:VEVENT
BEGIN:VEVENT
DTSTART;TZID=Europe/London:20260503T123000
DTEND;TZID=Europe/London:20260503T131500
DTSTAMP:20260421T184922
CREATED:20251230T000937Z
LAST-MODIFIED:20251230T000937Z
UID:10006143-1777811400-1777814100@www.ebenezer.fo
SUMMARY:Sunnudagsskúli
DESCRIPTION:Sangløta í niðara sali og síðani bíbliusøgur í aldursuppdeildum bólkum. \nUng í 7. flokki og eldri eru í stovuni yvirav stóra sali.
URL:https://www.ebenezer.fo/tiltak/sunnudagsskuli-10/2026-05-03/
LOCATION:í niðara sali
END:VEVENT
BEGIN:VEVENT
DTSTART;TZID=Europe/London:20260510T123000
DTEND;TZID=Europe/London:20260510T131500
DTSTAMP:20260421T184922
CREATED:20251230T000937Z
LAST-MODIFIED:20251230T000937Z
UID:10006144-1778416200-1778418900@www.ebenezer.fo
SUMMARY:Sunnudagsskúli
DESCRIPTION:Sangløta í niðara sali og síðani bíbliusøgur í aldursuppdeildum bólkum. \nUng í 7. flokki og eldri eru í stovuni yvirav stóra sali.
URL:https://www.ebenezer.fo/tiltak/sunnudagsskuli-10/2026-05-10/
LOCATION:í niðara sali
END:VEVENT
BEGIN:VEVENT
DTSTART;TZID=Europe/London:20260517T123000
DTEND;TZID=Europe/London:20260517T131500
DTSTAMP:20260421T184922
CREATED:20251230T000937Z
LAST-MODIFIED:20251230T000937Z
UID:10006145-1779021000-1779023700@www.ebenezer.fo
SUMMARY:Sunnudagsskúli
DESCRIPTION:Sangløta í niðara sali og síðani bíbliusøgur í aldursuppdeildum bólkum. \nUng í 7. flokki og eldri eru í stovuni yvirav stóra sali.
URL:https://www.ebenezer.fo/tiltak/sunnudagsskuli-10/2026-05-17/
LOCATION:í niðara sali
END:VEVENT
BEGIN:VEVENT
DTSTART;TZID=Europe/London:20260524T123000
DTEND;TZID=Europe/London:20260524T131500
DTSTAMP:20260421T184922
CREATED:20251230T000937Z
LAST-MODIFIED:20251230T000937Z
UID:10006146-1779625800-1779628500@www.ebenezer.fo
SUMMARY:Sunnudagsskúli
DESCRIPTION:Sangløta í niðara sali og síðani bíbliusøgur í aldursuppdeildum bólkum. \nUng í 7. flokki og eldri eru í stovuni yvirav stóra sali.
URL:https://www.ebenezer.fo/tiltak/sunnudagsskuli-10/2026-05-24/
LOCATION:í niðara sali
END:VEVENT
BEGIN:VEVENT
DTSTART;TZID=Europe/London:20260531T123000
DTEND;TZID=Europe/London:20260531T131500
DTSTAMP:20260421T184922
CREATED:20251230T000937Z
LAST-MODIFIED:20251230T000937Z
UID:10006147-1780230600-1780233300@www.ebenezer.fo
SUMMARY:Sunnudagsskúli
DESCRIPTION:Sangløta í niðara sali og síðani bíbliusøgur í aldursuppdeildum bólkum. \nUng í 7. flokki og eldri eru í stovuni yvirav stóra sali.
URL:https://www.ebenezer.fo/tiltak/sunnudagsskuli-10/2026-05-31/
LOCATION:í niðara sali
END:VEVENT
BEGIN:VEVENT
DTSTART;TZID=Europe/London:20260607T123000
DTEND;TZID=Europe/London:20260607T131500
DTSTAMP:20260421T184922
CREATED:20251230T000937Z
LAST-MODIFIED:20251230T000937Z
UID:10006148-1780835400-1780838100@www.ebenezer.fo
SUMMARY:Sunnudagsskúli
DESCRIPTION:Sangløta í niðara sali og síðani bíbliusøgur í aldursuppdeildum bólkum. \nUng í 7. flokki og eldri eru í stovuni yvirav stóra sali.
URL:https://www.ebenezer.fo/tiltak/sunnudagsskuli-10/2026-06-07/
LOCATION:í niðara sali
END:VEVENT
BEGIN:VEVENT
DTSTART;TZID=Europe/London:20260614T123000
DTEND;TZID=Europe/London:20260614T131500
DTSTAMP:20260421T184922
CREATED:20251230T000937Z
LAST-MODIFIED:20251230T000937Z
UID:10006149-1781440200-1781442900@www.ebenezer.fo
SUMMARY:Sunnudagsskúli
DESCRIPTION:Sangløta í niðara sali og síðani bíbliusøgur í aldursuppdeildum bólkum. \nUng í 7. flokki og eldri eru í stovuni yvirav stóra sali.
URL:https://www.ebenezer.fo/tiltak/sunnudagsskuli-10/2026-06-14/
LOCATION:í niðara sali
END:VEVENT
END:VCALENDAR